{"text_format":"1","workbook":"xlsx","n_sheets":15,"sheets":["About","TC","EN","SC","DB","TM_S","TM_D","LSI","DB_LSI","DB_METAL","DB_PCB","DB_TIM","DB_DRV","DB_HS","HS_D"],"not_rendered":{"charts":6,"images":38,"macros":1,"external_links":0,"defined_names":48,"comments":0,"pivot_tables":0},"unopened":[],"bounds":{"document_bytes":16777216,"sheet_cells":100000,"rows_first":2000,"rows_last":500,"rows_between":2000,"halvings":0,"cell_chars":16384,"cell_head_chars":4096},"cells_cut":0,"cells_raw":0,"read":"whole","date_system":"1900"}

{"sheet":"About","index":0,"n_rows":31,"n_cols":11,"rows_kept":31,"cut":false,"hidden":false,"merged":[]}
[]
[]
[]
[]
[]
[]
[]
[]
[]
[]
[]
[]
[]
[]
[null,null,null,null,null,null,null,null,"Thermal Analysis Module",null,"(with HeatSink Design)"]
[null,null,null,null,null,null,null,null,"熱學分析模組",null,"(帶散熱器設計)"]
[null,null,null,null,null,null,null,null,"热分析模组",null,"(带散热器设计)"]
[null,null,null,null,null,null,null,null,"PROGCODE",120]
[null,null,null,null,null,null,null,null,"VER",10]
[null,null,null,null,null,null,null,null,"FUNC",-1]
[null,null,null,null,null,null,null,null,"CODE"]
[null,null,null,null,null,null,null,null,"MAC","28:18:78:D2:C4:47"]
[null,null,null,null,null,null,null,null,"Purchasing #","A0016"]
[null,null,null,null,null,null,null,null,"Computer+User","CADMUSSURFACE-Cadmus Yuan"]
[null,null,null,null,null,null,null,null,"(Please return MAC address for more functions)"]
[null,null,null,null,null,null,null,null,"(請回傳MAC地址以獲得更高權限)"]
[]
[]
[null,null,null,null,null,null,null,null,"Email: sales@ichijouriki.com"]
[null,null,null,null,null,null,null,null,"www.ichijouriki.com"]
[null,null,null,null,null,null,null,null,"https://www.facebook.com/ichijouriki"]

{"sheet":"TC","index":1,"n_rows":38,"n_cols":23,"rows_kept":38,"cut":false,"hidden":true,"merged":[]}
["快速熱分析工具(TAM)",null,null,null,null,null,null,null,null,null,"等效Rth","Tj","Tj","等效Rth"]
[null,null,"環境溫度",null,null,null,null,null,"Rth","效率",null,null,null,null,null,null,null,"Rth","效率",null,"環境溫度"]
[null,null,null,"材料",null,null,null,null,null,null,null,null,null,null,null,null,null,null,null,null,null,"材料"]
[null,null,"光源",null,null,null,null,null,null,null,null,null,null,null,null,null,null,null,null,null,"光源"]
[null,null,null,null,null,null,"面積","厚度",null,null,null,null,null,null,"k","面積","厚度"]
[]
[null,null,"焊點",null,null,null,null,null,null,null,null,null,null,null,null,null,null,null,null,null,"焊點"]
[null,null,"焊點",null,null,null,null,null,null,null,null,null,null,null,null,null,null,null,null,null,"焊點"]
[]
[null,null,"PCB",null,null,null,null,null,null,null,null,null,null,null,null,null,null,null,null,null,"PCB"]
[null,null,"熱介材料",null,null,null,null,null,null,null,null,null,null,null,null,null,null,null,null,null,"熱介材料"]
[]
[]
[null,null,null,"材料","幾何尺寸",null,null,null,null,null,null,null,null,null,null,null,null,null,null,null,null,"材料","幾何尺寸"]
[null,null,"散熱器1",null,null,null,null,null,null,null,null,null,null,null,null,null,null,null,null,null,"散熱器1"]
[null,null,"散熱器2",null,null,null,null,null,null,null,null,null,null,null,null,null,null,null,null,null,"散熱器2"]
[null,null,"Driver",null,null,null,null,null,null,null,null,null,null,null,null,null,null,null,null,null,"Driver"]
[]
[]
[]
[]
[]
[]
[]
[]
[]
[]
[]
[null,null,null,null,null,null,null,null,null,null,null,null,"Temp1",null,null,null,"Temp1"]
[null,null,null,null,null,"solder","1/r","1/r",null,null,null,"Rth1",33.16123771736995,null,null,"Rth1",241.26713927015109,null,null,null,"solder","1/r","1/r"]
[null,null,null,null,null,null,0,0,null,null,"LS",0.17,32.529408152736963,null,"LS",0.27500000000000002,233.92872090673782,null,null,null,null,2.7272428571428571,0.90281142857142849]
[null,null,null,null,null,"sum 1/r",0,0,null,null,"SOLDER",0,32.529408152736963,null,"SOLDER",6.8869493490455484E-3,233.74494157738897,null,null,null,"sum 1/r",3.6300542857142855,0.27547797396182194]
[null,null,null,null,null,null,null,null,null,null,"PCB",3.7037037037037038E-3,32.515642802744956,null,"PCB",1.1600000000000001E-2,233.43539374824135]
[null,null,null,null,null,null,"Rth","Q",null,null,"TIM",0.26041666666666669,31.547766631432165,null,"TIM",6.6666666666666662E-3,233.25749269700708,null,null,null,"Rth","Q"]
[null,null,null,null,null,"HS1",0.89977473243603989,1.1601376139602646,null,null,"HS",0.89977473243603989,28.203623822827293,null,"HS",3.4867631181451126,140.21266907857711,null,null,"HS1",3.4867631181451126,0.29580277313262821]
[null,null,null,null,null,"HS2",2125.2440430763663,5.1631814350465671E-4,null,null,"ENV",null,25,null,"ENV",null,50,null,null,"HS2",1525.4490490675551,7.479272152569851E-4]
[null,null,null,null,null,null,0.89977473243603989,1.1601376139602646,null,null,null,1.3338951028064103,null,null,null,3.7869167341608247,null,null,null,null,3.4867631181451126,0.29580277313262821]
[null,null,null,null,null,null,null,null,null,null,"Heat",3.7166444978411173,1.1601376139602646,null,null,26.685157685139202,0.29580277313262821]

{"sheet":"EN","index":2,"n_rows":38,"n_cols":23,"rows_kept":38,"cut":false,"hidden":true,"merged":[]}
["Thermal Analysis Module (TAM)",null,null,null,null,null,null,null,null,null,"Eq. Rth","Tj","Tj","Eq. Rth"]
[null,null,"Env Temp",null,null,null,null,null,"Rth","Efficiency",null,null,null,null,null,null,null,"Rth","Efficiency",null,"Env Temp",50,"( C)"]
[null,null,null,"Material",null,null,null,null,null,null,null,null,null,null,null,null,null,null,null,null,null,"Material"]
[null,null,"LightSource",null,null,null,null,null,null,null,null,null,null,null,null,null,null,null,null,null,"LightSource"]
[null,null,null,null,null,null,"Area","Thickness"]
[]
[null,null,"Solder Joint",null,null,null,null,null,null,null,null,null,null,null,null,null,null,null,null,null,"Solder Joint"]
[null,null,"Solder Joint",null,null,null,null,null,null,null,null,null,null,null,null,null,null,null,null,null,"Solder Joint"]
[]
[null,null,"PCB",null,null,null,null,null,null,null,null,null,null,null,null,null,null,null,null,null,"PCB"]
[null,null,"TIM",null,null,null,null,null,null,null,null,null,null,null,null,null,null,null,null,null,"TIM"]
[]
[]
[null,null,null,"Material","Geometry",null,null,null,null,null,null,null,null,null,null,null,null,null,null,null,null,"Material","Geometry"]
[null,null,"HS1",null,null,null,null,null,null,null,null,null,null,null,null,null,null,null,null,null,"HS1"]
[null,null,"HS2",null,null,null,null,null,null,null,null,null,null,null,null,null,null,null,null,null,"HS2"]
[null,null,"Driver",null,null,null,null,null,null,null,null,null,null,null,null,null,null,null,null,null,"Driver"]
[]
[]
[]
[]
[]
[]
[]
[]
[]
[]
[]
[null,null,null,null,null,null,null,null,null,null,null,null,"Temp1",null,null,null,"Temp1"]
[null,null,null,null,null,"solder","1/r","1/r",null,null,null,"Rth1",37.118964681739946,null,null,"Rth1",241.26713927015109,null,null,null,"solder","1/r","1/r"]
[null,null,null,null,null,null,3.2915000000000006E-5,0.90281142857142849,null,null,"LS",11,29.780546318326667,null,"LS",0.27500000000000002,233.92872090673782,null,null,null,null,2.7272428571428571,0.90281142857142849]
[null,null,null,null,null,"sum 1/r",0.90284434357142851,1.1076106386669575,null,null,"SOLDER",1.1076106386669575,29.041627204662529,null,"SOLDER",6.8869493490455484E-3,233.74494157738897,null,null,null,"sum 1/r",3.6300542857142855,0.27547797396182194]
[null,null,null,null,null,null,null,null,null,null,"PCB",3.2615786040443577,26.865733720877532,null,"PCB",1.1600000000000001E-2,233.43539374824135]
[null,null,null,null,null,null,"Rth","Q",null,null,"TIM",0.66666666666666674,26.42098109279188,null,"TIM",6.6666666666666662E-3,233.25749269700708,null,null,null,"Rth","Q"]
[null,null,null,null,null,"HS1",1.0708553665790255,0.944162863321239,null,null,"HS",1.0708553665790255,25.706582484913408,null,"HS",3.4867631181451126,140.21266907857711,null,null,"HS1",3.4867631181451126,0.29580277313262821]
[null,null,null,null,null,"HS2",2125.2440430763663,5.1631814350465671E-4,null,null,"ENV",null,25,null,"ENV",null,50,null,null,"HS2",1525.4490490675551,7.479272152569851E-4]
[null,null,null,null,null,null,1.0708553665790255,0.944162863321239,null,null,null,17.106711275957007,null,null,null,3.7869167341608247,null,null,null,null,3.4867631181451126,0.29580277313262821]
[null,null,null,null,null,null,null,null,null,null,"Heat",0.66712894212848006,0.944162863321239,null,null,26.685157685139202,0.29580277313262821]

{"sheet":"SC","index":3,"n_rows":17,"n_cols":23,"rows_kept":17,"cut":false,"hidden":true,"merged":[]}
["快速热分析工具(TAM)",null,null,null,null,null,null,null,null,null,"等效Rth","Tj","Tj","等效Rth"]
[null,null,"环境温度",null,null,null,null,null,null,"效率",null,null,null,null,null,null,null,null,"效率",null,"环境温度",50,"( C)"]
[null,null,null,"材料",null,null,null,null,null,null,null,null,null,null,null,null,null,null,null,null,null,"材料"]
[null,null,"光源",null,null,null,null,null,null,null,null,null,null,null,null,null,null,null,null,null,"光源"]
[null,null,null,null,null,null,"面积","厚度",null,null,null,null,null,null,null,"面积","厚度"]
[]
[null,null,"焊点",null,null,null,null,null,null,null,null,null,null,null,null,null,null,null,null,null,"焊点"]
[null,null,"焊点",null,null,null,null,null,null,null,null,null,null,null,null,null,null,null,null,null,"焊点"]
[]
[null,null,"PCB",null,null,null,null,null,null,null,null,null,null,null,null,null,null,null,null,null,"PCB"]
[null,null,"热介材料",null,null,null,null,null,null,null,null,null,null,null,null,null,null,null,null,null,"热介材料"]
[]
[]
[null,null,null,"材料","几何尺寸",null,null,null,null,null,null,null,null,null,null,null,null,null,null,null,null,"材料","几何尺寸"]
[null,null,"散热器1",null,null,null,null,null,null,null,null,null,null,null,null,null,null,null,null,null,"散热器1"]
[null,null,"散热器2",null,null,null,null,null,null,null,null,null,null,null,null,null,null,null,null,null,"散热器2"]
[null,null,"Driver",null,null,null,null,null,null,null,null,null,null,null,null,null,null,null,null,null,"Driver"]

{"sheet":"DB","index":4,"n_rows":15,"n_cols":8,"rows_kept":15,"cut":false,"hidden":false,"merged":[[13,4,13,5],[14,4,14,5],[8,2,8,3],[8,4,8,5],[9,4,9,5],[10,4,10,5],[11,4,11,5],[12,4,12,5]]}
[]
[]
[null,null,null,null,null,"Thermal Analysis Module",null,"(with HeatSink Design)"]
[null,null,null,null,null,"熱學分析模組",null,"(帶散熱器設計)"]
[null,null,null,null,null,"热分析模组",null,"(带散热器设计)"]
[]
[]
[]
[null,null,"Database / 現有資料庫",null,"Number of data / 資料個數"]
[null,null,"LightSource","光源",2]
[null,null,"Metal","金屬",2]
[null,null,"PCB","電路板",1]
[null,null,"TIM","熱介面材料",1]
[null,null,"Driver","驅動",2]
[null,null,"HeatSink","散熱器",2]

{"sheet":"TM_S","index":5,"n_rows":38,"n_cols":24,"rows_kept":38,"cut":false,"hidden":false,"merged":[]}
["快速熱分析工具(TAM)",null,null,null,null,null,null,null,null,null,"等效Rth","Tj","Tj","等效Rth"]
[null,null,"環境溫度",22.1,"( C)","n","If","Vf","Rth","效率",{"$f":"+L37","v":2.2827687958100142},{"$f":"+M35+L37*L38","v":71.63483759462865},{"$f":"+Q35+P37*P38","v":243.80371146162818},{"$f":"+P37","v":3.8726714067229335},"n","If","Vf","Rth","效率",null,"環境溫度",50,"( C)"]
[null,null,null,"材料",null,null,"(mA)","(V)","(C/W)","%",null,null,null,null,null,"(mA)","(V)","(C/W)","%",null,null,"材料"]
[null,null,"光源","FC.TW-Luna60",null,1,1220,33.799999999999997,0.3,64,null,null,null,null,40,200,6.6712894212848006,11,50,null,"光源","光源"]
[null,null,null,null,null,"k","面積","厚度",null,null,null,null,null,null,"k","面積","厚度"]
[null,null,null,null,null,"(W/mK)","(mm2)","(mm)",null,null,null,null,null,null,"(W/mK)","(mm2)","(mm)"]
[null,null,"焊點",null,null,0,748.02250000000004,0.1,null,null,null,null,null,null,58,3.2915000000000001,7.0000000000000007E-2,null,null,null,"焊點","General-SAC"]
[null,null,"焊點",null,null,0,9.9999999999999995E-7,0.1,null,null,null,null,null,null,10,1.0895999999999999,7.0000000000000007E-2,null,null,null,"焊點","General-AgSP"]
[null,null,null,null,null,null,"(a*b)",null,null,null,null,null,null,null,null,"(a*b)"]
[null,null,"PCB",null,null,0,1090.909090909091,2,null,null,null,null,null,null,33.729999999999997,{"$f":"20*300/12","v":500},0.11600000000000001,null,null,null,"PCB","General-Ideal-MCPCB"]
[null,null,"熱介材料","CS-DSTape",null,1.2,{"$f":"+G7*1.2","v":897.62700000000007},1,null,null,null,null,null,null,2.56,500,0.2,null,null,null,"熱介材料","Eporite-TIM1101"]
[null,null,null,null,null,"Thermal",null,"Fin",null,null,null,null,null,null,"Thermal",null,"Fin"]
[null,null,null,null,null,"h","k","n","b","t",null,null,null,null,"h","k","n","b","t"]
[null,null,null,"材料","幾何尺寸","(W/m2K)","(W/mK)",null,"(mm)","(mm)",null,null,null,null,"(W/m2K)","(W/mK)",null,"(mm)","(mm)",null,null,"材料","幾何尺寸"]
[null,null,"散熱器1","General-Al5052","AJJ-COB11-1",6,138,9,1,110,null,null,null,null,12,58,24,5,50,null,"散熱器1","General-SAC","TS-Dot1"]
[null,null,"散熱器2","General-Al5052","AJJ-COB11-2",7,138,9,1,70,null,null,null,null,0,0,15,2,90,null,"散熱器2","散热器2"]
[null,null,"Driver","DRV-Test1",0,"(W)",null,"Block",null,null,null,null,null,null,null,null,"Block",null,null,null,"Driver","Driver",0,"(W)"]
[null,null,null,null,"(W)",null,null,"L","l","delta",null,null,null,null,null,null,"L","l","delta",null,null,null,"(W)"]
[null,null,null,null,null,null,null,"(mm)","(mm)","(mm)",null,null,null,null,null,null,"(mm)","(mm)","(mm)"]
[null,null,null,null,null,null,null,110,50,1,null,null,null,null,null,null,50,10,20]
[null,null,null,null,null,null,null,220,25,1,null,null,null,null,null,null,59,38,10]
[]
[]
[]
[]
[]
[]
[]
[null,null,null,null,null,null,null,null,null,null,null,null,"Temp1",null,null,null,"Temp1"]
[null,null,null,null,null,"solder","1/r","1/r",null,null,null,"Rth1",{"$f":"+M31+L31*L38","v":71.63483759462865},null,null,"Rth1",{"$f":"+Q31+P31*P38","v":243.80371146162818},null,null,null,"solder","1/r","1/r"]
[null,null,null,null,null,null,{"$f":"+F7*G7/1000/H7","v":0},{"$f":"+F8*G8/1000/H8","v":0},null,null,"LS",{"$f":"I4/F4","v":0.3},{"$f":"+M32+L32*L38","v":67.181349594628657},null,"LS",{"$f":"R4/O4","v":0.27500000000000002},{"$f":"+Q32+P32*P38","v":236.46529309821491},null,null,null,null,{"$f":"+O7*P7/1000/Q7","v":2.7272428571428571},{"$f":"+O8*P8/1000/Q8","v":0.15565714285714283}]
[null,null,null,null,null,"sum 1/r",{"$f":"+G31+H31","v":0},{"$f":"IF(G32>0,1/G32,0)","v":0},null,null,"SOLDER",{"$f":"+H32/F4","v":0},{"$f":"+M33+L33*L38","v":67.181349594628657},null,"SOLDER",{"$f":"+W32/O4","v":8.671823511047904E-3},{"$f":"+Q33+P33*P38","v":236.23388412040489},null,null,null,"sum 1/r",{"$f":"+V31+W31","v":2.8828999999999998},{"$f":"IF(V32>0,1/V32,0)","v":0.34687294044191613}]
[null,null,null,null,null,null,null,null,null,null,"PCB",{"$f":"IF(AND(F10>0,G10>0),H10/(F10*G10*0.001),0)/F4","v":0},{"$f":"+M34+L34*L38","v":67.181349594628657},null,"PCB",{"$f":"IF(AND(O10>0,P10>0),Q10/(O10*P10*0.001),0)/O4","v":1.7195375037058996E-4},{"$f":"+Q34+P34*P38","v":236.2292955074617}]
[null,null,null,null,null,null,"Rth","Q",null,null,"TIM",{"$f":"IF(AND(F11>0,G11>0),H11/(F11*G11*0.001),0)/F4","v":0.92837373801515932},{"$f":"+M35+L35*L38","v":53.399678588743136},null,"TIM",{"$f":"IF(AND(O11>0,P11>0),Q11/(O11*P11*0.001),0)/O4","v":3.90625E-3},{"$f":"+Q35+P35*P38","v":236.12505661025412},null,null,null,"Rth","Q"]
[null,null,null,null,null,"HS1",1.5985735201133697,0.6258077389872051,null,null,"HS",{"$f":"+G37","v":1.0543950577948551},{"$f":"M36+(L38/M38)","v":37.747226131580824},null,"HS",{"$f":"+U37","v":3.5849213794615151},{"$f":"Q36+P38/Q38","v":140.46086431049685},null,null,"HS1",3.5849213794615151,0.29499118639354777]
[null,null,null,null,null,"HS2",3.0973809804010579,0.32292016173881488,null,null,"ENV",null,{"$f":"+D2","v":22.1},null,"ENV",null,{"$f":"+V2","v":50},null,null,"HS2",1525.4490490675551,7.479272152569851E-4]
[null,null,null,null,null,null,1.0543950577948551,0.94872790072601998,null,null,null,{"$f":"SUM(L31:L35)","v":2.2827687958100142},null,null,null,{"$f":"SUM(P31:P35)","v":3.8726714067229335},null,null,null,null,3.5849213794615151,0.29499118639354777]
[null,null,null,null,null,null,null,null,null,null,"Heat",{"$f":"+E17+F4*G4*H4*(1-J4/100)/1000","v":14.844959999999999},{"$f":"H37","v":0.94872790072601998},null,null,{"$f":"W17+O4*P4*Q4*(1-S4/100)/1000","v":26.685157685139202},{"$f":"V37","v":0.29499118639354777}]

{"sheet":"TM_D","index":6,"n_rows":38,"n_cols":24,"rows_kept":38,"cut":false,"hidden":true,"merged":[]}
["快速熱分析工具(TAM)",null,null,null,null,null,null,null,null,null,"等效Rth","Tj","Tj","等效Rth"]
[null,null,"環境溫度",25,"( C)","n","If","Vf","Rth","效率",{"$f":"+L37","v":2.8118825310650961},{"$f":"+M35+L37*L38","v":135.3785819088418},{"$f":"+Q35+P37*P38","v":188.91848890335427},{"$f":"+P37","v":1.4184412353462585},"n","If","Vf","Rth","效率",null,"環境溫度",50,"( C)"]
[null,null,null,"材料",null,null,"(mA)","(V)","(C/W)","%",null,null,null,null,null,"(mA)","(V)","(C/W)","%",null,null,"材料"]
[null,null,"光源","Nichia-NF2L757GT",null,44,300,3.1640961459702996,11,50,null,null,null,null,1,2000,53.659271108026871,0.17,50,null,"光源","Citizen-CLU048"]
[null,null,null,null,null,"k","面積","厚度",null,null,null,null,null,null,"k","面積","厚度"]
[null,null,null,null,null,"(W/mK)","(mm2)","(mm)",null,null,null,null,null,null,"(W/mK)","(mm2)","(mm)"]
[null,null,"焊點","General-SAC",null,58,3.2915000000000001,0.1,null,null,null,null,null,null,0,392,7.0000000000000007E-2,null,null,null,"焊點"]
[null,null,"焊點","General-SAC",null,58,1.0895999999999999,0.1,null,null,null,null,null,null,0,392,7.0000000000000007E-2,null,null,null,"焊點"]
[null,null,null,null,null,null,"(a*b)",null,null,null,null,null,null,null,null,"(a*b)"]
[null,null,"PCB","General-Ideal-FR4",null,0.2,1090.909090909091,3,null,null,null,null,null,null,0,{"$f":"20*300/12","v":500},0.11600000000000001,null,null,null,"PCB"]
[null,null,"熱介材料","Eporite-TIM1101",null,2.56,1090.909090909091,1,null,null,null,null,null,null,6,500,0.2,null,null,null,"熱介材料","Eporite-TIM3101"]
[null,null,null,null,null,"Thermal",null,"Fin",null,null,null,null,null,null,"Thermal",null,"Fin"]
[null,null,null,null,null,"h","k","n","b","t",null,null,null,null,"h","k","n","b","t"]
[null,null,null,"材料","幾何尺寸","(W/m2K)","(W/mK)",null,"(mm)","(mm)",null,null,null,null,"(W/m2K)","(W/mK)",null,"(mm)","(mm)",null,null,"材料","幾何尺寸"]
[null,null,"散熱器1","Extruded-Al-A6063","General-Bar_T8",4,170,0,2,1400,null,null,null,null,12,170,10,2,90,null,"散熱器1","Extruded-Al-A6063","General-CoB-II"]
[null,null,"散熱器2","General-SAC",null,0,58,0,5,50,null,null,null,null,0,58,15,2,90,null,"散熱器2","General-SAC"]
[null,null,"Driver","DRV-Test1",1,"(W)",null,"Block",null,null,null,null,null,null,null,null,"Block",null,null,null,"Driver","DRV-Test0",0,"(W)"]
[null,null,null,null,"(W)",null,null,"L","l","delta",null,null,null,null,null,null,"L","l","delta",null,null,null,"(W)"]
[null,null,null,null,null,null,null,"(mm)","(mm)","(mm)",null,null,null,null,null,null,"(mm)","(mm)","(mm)"]
[null,null,null,null,null,null,null,80,3,3,null,null,null,null,null,null,59,38,10]
[null,null,null,null,null,null,null,50,10,3,null,null,null,null,null,null,59,38,10]
[]
[]
[]
[]
[]
[]
[]
[null,null,null,null,null,null,null,null,null,null,null,null,"Temp1",null,null,null,"Temp1"]
[null,null,null,null,null,"solder","1/r","1/r",null,null,null,"Rth1",{"$f":"+M31+L31*L38","v":135.3785819088418},null,null,"Rth1",{"$f":"+Q31+P31*P38","v":188.91848890335427},null,null,null,"solder","1/r","1/r"]
[null,null,null,null,null,null,{"$f":"+F7*G7/1000/H7","v":1.90907},{"$f":"+F8*G8/1000/H8","v":0.63196799999999997},null,null,"LS",{"$f":"I4/F4","v":0.25},{"$f":"+M32+L32*L38","v":129.90782326799081},null,"LS",{"$f":"R4/O4","v":0.17},{"$f":"+Q32+P32*P38","v":179.79641281498971},null,null,null,null,{"$f":"+O7*P7/1000/Q7","v":0},{"$f":"+O8*P8/1000/Q8","v":0}]
[null,null,null,null,null,"sum 1/r",{"$f":"+G31+H31","v":2.5410379999999999},{"$f":"IF(G32>0,1/G32,0)","v":0.39353996280260273},null,null,"SOLDER",{"$f":"+H32/F4","v":8.9440900636955159E-3},{"$f":"+M33+L33*L38","v":129.71209943598876},null,"SOLDER",{"$f":"+W32/O4","v":0},{"$f":"+Q33+P33*P38","v":179.79641281498971},null,null,null,"sum 1/r",{"$f":"+V31+W31","v":0},{"$f":"IF(V32>0,1/V32,0)","v":0}]
[null,null,null,null,null,null,null,null,null,null,"PCB",{"$f":"IF(AND(F10>0,G10>0),H10/(F10*G10*0.001),0)/F4","v":0.31249999999999994},{"$f":"+M34+L34*L38","v":122.87365113492501},null,"PCB",{"$f":"IF(AND(O10>0,P10>0),Q10/(O10*P10*0.001),0)/O4","v":0},{"$f":"+Q34+P34*P38","v":179.79641281498971}]
[null,null,null,null,null,null,"Rth","Q",null,null,"TIM",{"$f":"IF(AND(F11>0,G11>0),H11/(F11*G11*0.001),0)/F4","v":8.1380208333333322E-3},{"$f":"+M35+L35*L38","v":122.69556654375148},null,"TIM",{"$f":"IF(AND(O11>0,P11>0),Q11/(O11*P11*0.001),0)/O4","v":6.6666666666666666E-2},{"$f":"+Q35+P35*P38","v":176.21912807445457},null,null,null,"Rth","Q"]
[null,null,null,null,null,"HS1",2.2323004201680674,0.44800000000000001,null,null,"HS",{"$f":"+G37","v":2.2323004201680674},{"$f":"M36+(L38/M38)","v":73.84605929331245},null,"HS",{"$f":"+U37","v":1.1817745686795917},{"$f":"Q36+P38/Q38","v":112.80596610510483},null,null,"HS1",1.1817745686795917,0.85436582598266064]
[null,null,null,null,null,"HS2",40000.020689655168,2.5000000000000001E-5,null,null,"ENV",null,{"$f":"+D2","v":25},null,"ENV",null,{"$f":"+V2","v":50},null,null,"HS2",928.86564076186426,1.0768785591239224E-3]
[null,null,null,null,null,null,2.2323004201680674,0.44800000000000001,null,null,null,{"$f":"SUM(L31:L35)","v":2.8118825310650961},null,null,null,{"$f":"SUM(P31:P35)","v":1.4184412353462585},null,null,null,null,1.1817745686795917,0.85436582598266064]
[null,null,null,null,null,null,null,null,null,null,"Heat",{"$f":"+E17+F4*G4*H4*(1-J4/100)/1000","v":21.883034563403978},{"$f":"H37","v":0.44800000000000001},null,null,{"$f":"W17+O4*P4*Q4*(1-S4/100)/1000","v":53.659271108026871},{"$f":"V37","v":0.85436582598266064}]

{"sheet":"LSI","index":7,"n_rows":22,"n_cols":29,"rows_kept":22,"cut":false,"hidden":true,"merged":[]}
["Light source information Import"]
["光源數據輸入"]
["光源数据输入",null,null,null,null,null,null,null,null,null,null,null,null,null,null,null,null,null,null,null,null,null,null,"drawing"]
[null,null,null,"Supplier",null,"Nichia",null,"PAD1",null,null,null,null,null,null,"Efficacy",null,null,null,"Vf-If"]
[null,null,null,"Type",null,"SMD_3030",null,"x","(mm)",1.45,null,null,null,null,"If",65,null,null,"If",65,null,null,null,"Eff-If",null,null,null,"Vf-If"]
[null,null,null,"Name",null,"NF2L757GT",null,"y","(mm)",2.27,null,null,null,null,"Vf",2.75,null,null,"Lm",33.700000000000003]
[null,null,null,null,null,null,null,null,null,null,null,null,null,null,null,null,null,null,null,null,null,null,0,{"$f":"+O9","v":65},{"$f":"$O$11*EXP(-$O$12*X7)","v":159.44055944055944},null,0,{"$f":"+S9","v":65},{"$f":"+$S$12*AB7^$S$11","v":2.75}]
[null,null,null,"If","(mA)",180,null,"PAD2",null,null,null,null,null,null,"Eff-If","Lm","Eff",null,null,"Vf",null,null,1,{"$f":"+$X$7+W8*($X$17-$X$7)/10","v":82.5},157.43209111615232,null,1,{"$f":"+$AB$7+AA8*($AB$17-$AB$7)/10","v":82.5},{"$f":"+$S$12*AB8^$S$11","v":2.8107925048732043}]
[null,null,null,"Vf","(V)",3,null,"x","(mm)",0.48,null,null,null,"If",65,28.5,{"$f":"+P9/O9/T9*1000","v":159.44055944055944},"If",65,2.75,null,null,2,{"$f":"+$X$7+W9*($X$17-$X$7)/10","v":100},155.44892341176495,null,2,{"$f":"+$AB$7+AA9*($AB$17-$AB$7)/10","v":100},2.8608237730510924]
[null,null,null,null,null,null,null,"y","(mm)",2.27,null,null,null,null,240,{"$f":"+P9/0.9*3.3","v":104.49999999999999},{"$f":"+P10/O10/T10*1000","v":140.45698924731181},null,240,3.1,null,null,3,117.5,153.49073761618567,null,3,117.5,2.9034512563711909]
[null,null,null,"Rth","(C/W)",11,null,null,null,null,null,null,null,"A",{"$f":"Q9/(EXP(-O12*O9))","v":167.12752371538375},null,null,"D",{"$f":"LOG10(T9/S12)/LOG10(S9)","v":9.1713721086241512E-2},null,null,null,4,135,151.55721903299906,null,4,135,2.9406578792848359]
[null,null,null,"Efficiency","(%)",50,null,null,null,null,null,null,null,"B",{"$f":"-LN(Q9/Q10)/(O9-O10)","v":7.2439925216408012E-4},null,null,"C",{"$f":"10^S14","v":1.8752693864979155},null,null,null,5,152.5,149.64805693001173,null,5,152.5,2.9737158344340204]
[null,null,null,null,null,null,null,null,null,null,null,null,null,null,null,null,null,null,{"$f":"+LOG10(S9)/LOG10(S10)","v":0.76166069837532258},null,null,null,6,170,147.76294448931529,null,6,170,3.0034916863355745]
[null,null,null,null,null,null,null,null,null,null,null,null,null,null,null,null,null,null,{"$f":"(S13*LOG10(T10)-LOG10(T9))/(-1+S13)","v":0.27306366388559788},null,null,null,7,187.5,145.90157875797792,null,7,187.5,3.0306031379952878]
[null,null,null,null,null,null,null,null,null,null,null,null,null,null,null,null,null,null,null,null,null,null,8,205,144.06366059935758,null,8,205,3.0555065055161621]
[null,null,null,null,null,null,null,null,null,null,null,null,null,null,null,null,null,null,null,null,null,null,9,222.5,142.24889464502823,null,9,222.5,3.0785487429547991]
[null,null,null,null,null,null,null,null,null,null,null,null,null,null,null,null,null,null,null,null,null,null,10,{"$f":"+O10","v":240},140.45698924731181,null,10,{"$f":"+S10","v":240},3.1000000000000005]
[]
[]
[]
[null,null,"Supplier","Type","LS","Code","If","Vf","Rth","Efficiency","A","B","C","D","PAD1_X","PAD1_Y","PAD2_X","PAD2_Y"]
[null,null,{"$f":"+F4","v":"Nichia"},{"$f":"+F5","v":"SMD_3030"},{"$f":"+F6","v":"NF2L757GT"},{"$f":"+C22 & \"-\" & E22","v":"Nichia-NF2L757GT"},{"$f":"+F8","v":180},{"$f":"+F9","v":3},{"$f":"+F11","v":11},{"$f":"+F12","v":50},{"$f":"+O11","v":167.12752371538375},{"$f":"+O12","v":7.2439925216408012E-4},{"$f":"+S12","v":1.8752693864979155},{"$f":"+S11","v":9.1713721086241512E-2},{"$f":"+J5","v":1.45},{"$f":"+J6","v":2.27},{"$f":"+J9","v":0.48},{"$f":"+J10","v":2.27}]

{"sheet":"DB_LSI","index":8,"n_rows":5,"n_cols":17,"rows_kept":5,"cut":false,"hidden":true,"merged":[]}
[]
[null,"Supplier","Type","LS","Code","If","Vf","Rth","Efficiency","A","B","C","D","PAD1_X","PAD1_Y","PAD2_X","PAD2_Y"]
[null,null,null,null,null,"(mA)","(V)","(C/W)","%"]
[null,"Nichia","SMD_3030","NF2L757GT","Nichia-NF2L757GT",180,3,11,50,167.12752371538375,7.2439925216408012E-4,1.8752693864979155,9.1713721086241512E-2,1.45,2.27,0.48,2.27]
[null,"FC.TW","COB","Luna60","FC.TW-Luna60",1700,36.6,0.3,64,185.60940565392397,1.4998299309919302E-4,27.134731551443888,3.0907339430313603E-2,27.35,27.35,1E-3,1E-3]

{"sheet":"DB_METAL","index":9,"n_rows":5,"n_cols":6,"rows_kept":5,"cut":false,"hidden":true,"merged":[]}
[null,null,null,null,null,{"$f":"COUNT(F4:F15)","v":2}]
[null,"Supplier","Type","Mat","Code","k"]
[null,null,null,null,null,"(W/mK)"]
[null,"General","solder paste","AgSP",{"$f":"B4& \"-\"&D4","v":"General-AgSP"},10]
[null,"General","Al","Al5052","General-Al5052",138]

{"sheet":"DB_PCB","index":10,"n_rows":4,"n_cols":6,"rows_kept":4,"cut":false,"hidden":true,"merged":[]}
[null,null,null,null,null,{"$f":"COUNT(F4:F14)","v":1}]
[null,"Supplier","Type","Mat","Code","k"]
[null,null,null,null,null,"(W/mK)"]
[null,"General","MCPCB","Ideal-MCPCB",{"$f":"B4& \"-\"&D4","v":"General-Ideal-MCPCB"},33.729999999999997]

{"sheet":"DB_TIM","index":11,"n_rows":4,"n_cols":6,"rows_kept":4,"cut":false,"hidden":true,"merged":[]}
[null,null,null,null,null,{"$f":"COUNT(F4:F16)","v":1}]
[null,"Supplier","Type","Mat","Code","k"]
[null,null,null,null,null,"(W/mK)"]
[null,"CS","TIM","DSTape",{"$f":"B4& \"-\"&D4","v":"CS-DSTape"},1.5]

{"sheet":"DB_DRV","index":12,"n_rows":5,"n_cols":8,"rows_kept":5,"cut":false,"hidden":true,"merged":[]}
[null,null,null,null,null,{"$f":"COUNT(F4:F170)","v":2}]
[null,"Supplier","Type","Mat","Code","Q"]
[null,null,null,null,null,"W"]
[null,"DRV","Driver","Test1",{"$f":"B4& \"-\"&D4","v":"DRV-Test1"},2,null,"輸入：散熱功率＝總功率＊（1-效率）"]
[null,"DRV","Driver","Test0",{"$f":"B5& \"-\"&D5","v":"DRV-Test0"},0]

{"sheet":"DB_HS","index":13,"n_rows":5,"n_cols":11,"rows_kept":5,"cut":false,"hidden":true,"merged":[]}
[null,null,null,null,null,{"$f":"COUNT(F4:F210)","v":2}]
[null,"Supplier/App","Product","Code","Code","n","b","t","L","l","delta"]
[null,null,null,null,null,null,"(mm)","(mm)","(mm)","(mm)","(mm)"]
[null,"AJJ","COB","COB11-1",{"$f":"B4& \"-\"&D4","v":"AJJ-COB11-1"},9,1,110,110,50,1]
[null,"AJJ","COB","COB11-2","AJJ-COB11-2",9,1,70,220,25,1]

{"sheet":"HS_D","index":14,"n_rows":17,"n_cols":25,"rows_kept":17,"cut":false,"hidden":true,"merged":[]}
["HS Calculation","Heat transfer coefficient",null,null,null,"Geometry"]
[null,null,null,null,null,null,null,null,null,null,null,null,null,null,null,null,null,"e","Rj",1,2,3,"Q","Tf"]
[null,"Fin","bottom","Fin Tip","k","Number of Fins","Length","Width","Height","Fin width","Block","heatsink bottom area",null,null,null,null,"case1",{"$f":"G11","v":{"$error":"#REF!"}},{"$f":"O11","v":{"$error":"#REF!"}},{"$f":"+$F$7*SQRT($B$7*$E$7*C11*B11)","v":{"$error":"#REF!"}},{"$f":"TANH(SQRT($B$7*B11/($E$7*C11))*$I$7)","v":{"$error":"#REF!"}},{"$f":"$C$7*($L$7-$F$7*C11)","v":{"$error":"#REF!"}},{"$f":"#REF!","v":{"$error":"#REF!"}},{"$f":"+W3/(T3*U3+V3)+#REF!","v":{"$error":"#REF!"}}]
[null,"(W/m2K)",null,null,"(W/mK)",null,"mm","mm","mm","mm",null,"mm2",null,null,null,null,"case2",{"$f":"J13","v":{"$error":"#REF!"}},{"$f":"Y13","v":{"$error":"#REF!"}},{"$f":"+$F$7*SQRT($B$7*$E$7*C13*B13)","v":{"$error":"#REF!"}},{"$f":"(TANH(D13)+E13)/(1+E13*TANH(D13))","v":{"$error":"#REF!"}},{"$f":"$C$7*($L$7-$F$7*C13)","v":{"$error":"#REF!"}},{"$f":"#REF!","v":{"$error":"#REF!"}},{"$f":"+W4/(T4*U4+V4)+#REF!","v":{"$error":"#REF!"}}]
[null,"hf","hb","he","k","n/a","L","t","l","b","delta","A",null,null,null,null,"case3",{"$f":"J15","v":{"$error":"#REF!"}},{"$f":"Y15","v":{"$error":"#REF!"}},{"$f":"+$F$7*SQRT($B$7*$E$7*C15*B15)","v":{"$error":"#REF!"}},{"$f":"TANH(SQRT($B$7*B15/($E$7*C15))*$I$7)","v":{"$error":"#REF!"}},{"$f":"$C$7*($L$7-$F$7*C15)","v":{"$error":"#REF!"}},{"$f":"#REF!","v":{"$error":"#REF!"}},{"$f":"+W5/(T5*U5+V5)+#REF!","v":{"$error":"#REF!"}}]
[null,{"$f":"#REF!","v":{"$error":"#REF!"}},{"$f":"B6","v":{"$error":"#REF!"}},{"$f":"C6","v":{"$error":"#REF!"}},{"$f":"#REF!","v":{"$error":"#REF!"}},{"$f":"#REF!","v":{"$error":"#REF!"}},{"$f":"#REF!","v":{"$error":"#REF!"}},{"$f":"#REF!","v":{"$error":"#REF!"}},{"$f":"#REF!","v":{"$error":"#REF!"}},{"$f":"#REF!","v":{"$error":"#REF!"}},{"$f":"#REF!","v":{"$error":"#REF!"}},{"$f":"H6*G6","v":{"$error":"#REF!"}},null,null,null,null,"case4",{"$f":"J17","v":{"$error":"#REF!"}},{"$f":"Y17","v":{"$error":"#REF!"}},{"$f":"+$F$7*SQRT($B$7*$E$7*C17*B17)","v":{"$error":"#REF!"}},{"$f":"(TANH(D17)+E17)/(1+E17*TANH(D17))","v":{"$error":"#REF!"}},{"$f":"$C$7*($L$7-$F$7*C17)","v":{"$error":"#REF!"}},{"$f":"#REF!","v":{"$error":"#REF!"}},{"$f":"+W6/(T6*U6+V6)+#REF!","v":{"$error":"#REF!"}}]
[null,{"$f":"+B6","v":{"$error":"#REF!"}},{"$f":"+C6","v":{"$error":"#REF!"}},{"$f":"+D6","v":{"$error":"#REF!"}},{"$f":"+E6","v":{"$error":"#REF!"}},{"$f":"+F6","v":{"$error":"#REF!"}},{"$f":"+G6*0.001","v":{"$error":"#REF!"}},{"$f":"+H6*0.001","v":{"$error":"#REF!"}},{"$f":"+I6*0.001","v":{"$error":"#REF!"}},{"$f":"+J6*0.001","v":{"$error":"#REF!"}},{"$f":"+K6*0.001","v":{"$error":"#REF!"}},{"$f":"+G7*H7","v":{"$error":"#REF!"}}]
[null,null,null,null,null,null,null,null,null,null,null,null,null,null,null,null,null,null,{"$f":"AVERAGE(S3:S6)","v":{"$error":"#REF!"}},{"$f":"AVERAGE(T3:T6)","v":{"$error":"#REF!"}},{"$f":"AVERAGE(U3:U6)","v":{"$error":"#REF!"}},{"$error":"#REF!"},null,{"$f":"AVERAGE(X3:X6)","v":{"$error":"#REF!"}}]
[]
["case 1","p","a","m",null,null,"e","v","D","S","Bi","H",null,"yida","R",null,null,null,null,null,null,{"$f":"+T8*U8+V8","v":{"$error":"#REF!"}}]
[null,{"$f":"2*H7","v":{"$error":"#REF!"}},{"$f":"+J7*H7","v":{"$error":"#REF!"}},{"$f":"SQRT(B6*B11/(E6*C11))","v":{"$error":"#REF!"}},{"$f":"F7*SQRT(B7*C11*E7*B11)/(C7*L7)","v":{"$error":"#REF!"}},{"$f":"TANH(SQRT(B7*B11/(E7*C11))*I7)","v":{"$error":"#REF!"}},{"$f":"E11*F11+1-F7*C11/(L7)","v":{"$error":"#REF!"}},{"$f":"J7*H7*G7","v":{"$error":"#REF!"}},{"$f":"F7/(L7) *SQRT(H11*H7)","v":{"$error":"#REF!"}},{"$f":"I7*SQRT( (H7)/H11)","v":{"$error":"#REF!"}},{"$f":"2*B7/E7*SQRT(H11/(H7))","v":{"$error":"#REF!"}},{"$f":"D6/B6","v":{"$error":"#REF!"}},{"$f":"2*I11*J11/L11+1-I11/J11","v":{"$error":"#REF!"}},{"$f":"G11/M11","v":{"$error":"#REF!"}},{"$f":"(1/L7)*(1/(G11*C7)+K7/E7)","v":{"$error":"#REF!"}}]
["case 2","p","a","M","N",null,null,null,null,"e","v","D","S","Bi","H","Hb","He","E","I","J","F","K",null,"yida","Rj"]
[null,{"$f":"2*$H$7","v":{"$error":"#REF!"}},{"$f":"+$J$7*$H$7","v":{"$error":"#REF!"}},{"$f":"SQRT(($B$7*B13)/($E$7*C13))*$I$7","v":{"$error":"#REF!"}},{"$f":"+($D$7*$I$7)/(D13*$E$7)","v":{"$error":"#REF!"}},{"$f":"SQRT($B$7*B13/($E$7*C13))","v":{"$error":"#REF!"}},{"$f":"$F$7*SQRT($B$7*$E$7*C13*B13)/($C$7*$L$7)","v":{"$error":"#REF!"}},{"$f":"TANH(F13*$I$7)+$D$7/(F13*$E$7)","v":{"$error":"#REF!"}},{"$f":"1+$D$7/(F13*$E$7)*TANH(F13*$I$7)","v":{"$error":"#REF!"}},{"$f":"+G13*H13/I13+1-$F$7*C13/$L$7","v":{"$error":"#REF!"}},{"$f":"$J$7*$H$7*$G$7","v":{"$error":"#REF!"}},{"$f":"$F$7/($L$7) *SQRT(K13*$H$7)","v":{"$error":"#REF!"}},{"$f":"$I$7*SQRT( ($H$7)/K13)","v":{"$error":"#REF!"}},{"$f":"2*$B$7/$E$7*SQRT(K13/($H$7))","v":{"$error":"#REF!"}},{"$f":"$D$7/$B$7","v":{"$error":"#REF!"}},{"$f":"+$C$7/$B$7","v":{"$error":"#REF!"}},{"$f":"+$D$7/$B$7","v":{"$error":"#REF!"}},{"$f":"2*L13/(SQRT(N13)*P13)","v":{"$error":"#REF!"}},{"$f":"+Q13/P13*L13","v":{"$error":"#REF!"}},{"$f":"0.5*SQRT(N13)*Q13","v":{"$error":"#REF!"}},{"$f":"SQRT(N13)","v":{"$error":"#REF!"}},{"$f":"SQRT(K13/$H$7^3)","v":{"$error":"#REF!"}},{"$f":"2*L13*M13/O13+1-(1+$D$7/$C$7)*(L13/M13)","v":{"$error":"#REF!"}},{"$f":"+J13/W13","v":{"$error":"#REF!"}},{"$f":"(1/$L$7)*(1/(J13*$C$7)+$K$7/$E$7)","v":{"$error":"#REF!"}}]
["case 3","p","a","M","N",null,null,null,null,"e","v","D","S","Bi","H","Hb","He","E","I","J","F",null,null,"yida","Rj"]
[null,{"$f":"2*($H$7+$J$7)","v":{"$error":"#REF!"}},{"$f":"+$J$7*$H$7","v":{"$error":"#REF!"}},{"$f":"SQRT(($B$7*B15)/($E$7*C15))*$I$7","v":{"$error":"#REF!"}},{"$f":"+($D$7*$I$7)/(D15*$E$7)","v":{"$error":"#REF!"}},{"$f":"SQRT($B$7*B15/($E$7*C15))","v":{"$error":"#REF!"}},null,{"$f":"+F7*SQRT(B7*E7*C15*B15)/(C7*L7)","v":{"$error":"#REF!"}},{"$f":"TANH(SQRT(B7*B15/(E7*C15))*I7)","v":{"$error":"#REF!"}},{"$f":"+H15*I15+1-F7*C15/L7","v":{"$error":"#REF!"}},{"$f":"$J$7*$H$7*$G$7","v":{"$error":"#REF!"}},{"$f":"$F$7/($L$7) *SQRT(K15*$H$7)","v":{"$error":"#REF!"}},{"$f":"$I$7*SQRT( ($H$7)/K15)","v":{"$error":"#REF!"}},{"$f":"2*$B$7/$E$7*SQRT(K15/($H$7))","v":{"$error":"#REF!"}},{"$f":"$D$7/$B$7","v":{"$error":"#REF!"}},{"$f":"+$C$7/$B$7","v":{"$error":"#REF!"}},{"$f":"+$D$7/$B$7","v":{"$error":"#REF!"}},{"$f":"2*L15/(SQRT(N15)*P15)","v":{"$error":"#REF!"}},{"$f":"+Q15/P15*L15","v":{"$error":"#REF!"}},{"$f":"0.5*SQRT(N15)*Q15","v":{"$error":"#REF!"}},{"$f":"SQRT(N15)","v":{"$error":"#REF!"}},{"$f":"SQRT(K15/$H$7^3)","v":{"$error":"#REF!"}},{"$f":"2*L15*V15/O15+2*L15*M15/O15+1-L15/M15","v":{"$error":"#REF!"}},{"$f":"+J15/W15","v":{"$error":"#REF!"}},{"$f":"(1/$L$7)*(1/(J15*$C$7)+$K$7/$E$7)","v":{"$error":"#REF!"}}]
["case 4","p","a","M","N",null,null,null,null,"e","v","D","S","Bi","H","Hb","He","E","I","J","F",null,null,"yida","Rj"]
[null,{"$f":"2*($H$7+$J$7)","v":{"$error":"#REF!"}},{"$f":"+$J$7*$H$7","v":{"$error":"#REF!"}},{"$f":"SQRT(($B$7*B17)/($E$7*C17))*$I$7","v":{"$error":"#REF!"}},{"$f":"+($D$7*$I$7)/(D17*$E$7)","v":{"$error":"#REF!"}},{"$f":"SQRT($B$7*B17/($E$7*C17))","v":{"$error":"#REF!"}},{"$f":"$F$7*SQRT($B$7*$E$7*C17*B17)/($C$7*$L$7)","v":{"$error":"#REF!"}},{"$f":"TANH(F17*$I$7)+$D$7/(F17*$E$7)","v":{"$error":"#REF!"}},{"$f":"1+$D$7/(F17*$E$7)*TANH(F17*$I$7)","v":{"$error":"#REF!"}},{"$f":"+G17*H17/I17+1-$F$7*C17/$L$7","v":{"$error":"#REF!"}},{"$f":"$J$7*$H$7*$G$7","v":{"$error":"#REF!"}},{"$f":"$F$7/($L$7) *SQRT(K17*$H$7)","v":{"$error":"#REF!"}},{"$f":"$I$7*SQRT( ($H$7)/K17)","v":{"$error":"#REF!"}},{"$f":"2*$B$7/$E$7*SQRT(K17/($H$7))","v":{"$error":"#REF!"}},{"$f":"$D$7/$B$7","v":{"$error":"#REF!"}},{"$f":"+$C$7/$B$7","v":{"$error":"#REF!"}},{"$f":"+$D$7/$B$7","v":{"$error":"#REF!"}},{"$f":"2*L17/(SQRT(N17)*P17)","v":{"$error":"#REF!"}},{"$f":"+Q17/P17*L17","v":{"$error":"#REF!"}},{"$f":"0.5*SQRT(N17)*Q17","v":{"$error":"#REF!"}},{"$f":"SQRT(N17)","v":{"$error":"#REF!"}},{"$f":"SQRT(K17/$H$7^3)","v":{"$error":"#REF!"}},{"$f":"2*L17*M17/O17+1-(1+$D$7/$C$7)*(L17/M17)+2*L17*V17/O17","v":{"$error":"#REF!"}},{"$f":"+J17/W17","v":{"$error":"#REF!"}},{"$f":"(1/$L$7)*(1/(J17*$C$7)+$K$7/$E$7)","v":{"$error":"#REF!"}}]